BEGIN:VCALENDAR
VERSION:2.0
PRODID:-//Socialist Labour Party - ECPv6.15.20//NONSGML v1.0//EN
CALSCALE:GREGORIAN
METHOD:PUBLISH
X-ORIGINAL-URL:https://socialistlabourparty.org.uk
X-WR-CALDESC:Events for Socialist Labour Party
REFRESH-INTERVAL;VALUE=DURATION:PT1H
X-Robots-Tag:noindex
X-PUBLISHED-TTL:PT1H
BEGIN:VTIMEZONE
TZID:Europe/London
BEGIN:DAYLIGHT
TZOFFSETFROM:+0000
TZOFFSETTO:+0100
TZNAME:BST
DTSTART:20250330T010000
END:DAYLIGHT
BEGIN:STANDARD
TZOFFSETFROM:+0100
TZOFFSETTO:+0000
TZNAME:GMT
DTSTART:20251026T010000
END:STANDARD
BEGIN:DAYLIGHT
TZOFFSETFROM:+0000
TZOFFSETTO:+0100
TZNAME:BST
DTSTART:20260329T010000
END:DAYLIGHT
BEGIN:STANDARD
TZOFFSETFROM:+0100
TZOFFSETTO:+0000
TZNAME:GMT
DTSTART:20261025T010000
END:STANDARD
BEGIN:DAYLIGHT
TZOFFSETFROM:+0000
TZOFFSETTO:+0100
TZNAME:BST
DTSTART:20270328T010000
END:DAYLIGHT
BEGIN:STANDARD
TZOFFSETFROM:+0100
TZOFFSETTO:+0000
TZNAME:GMT
DTSTART:20271031T010000
END:STANDARD
END:VTIMEZONE
BEGIN:VEVENT
DTSTART;TZID=Europe/London:20260425T113000
DTEND;TZID=Europe/London:20260425T130000
DTSTAMP:20260420T084428
CREATED:20260204T150949Z
LAST-MODIFIED:20260402T110739Z
UID:2142348369-1777116600-1777122000@socialistlabourparty.org.uk
SUMMARY:Commemorative Wreath Laying\, Somercotes\, Derbyshire
DESCRIPTION:Our Comrade\, Paul Liversuch will be giving a speech to commemorate the legacy of the miners in Derbyshire.\nSLP members and supporters are welcome to come along and support\nVenue: Somercotes Village Hall\, Nottingham Rd\, Somercotes\, Alfreton DE55 4LY\nDate and Time: Friday the 24th of April at 12:00pm \nContact 07799-580364 or generalsecretary@socialistlabourparty.org.uk for more details
URL:https://socialistlabourparty.org.uk/event/commemorative-wreath-laying-somercotes-derbyshire/
LOCATION:Somercotes Village Hall\, 239 Nottingham Road\, Somercotes\, Derbyshire\, DE55 4LY\, United Kingdom
ATTACH;FMTTYPE=image/jpeg:https://socialistlabourparty.org.uk/wp-content/uploads/2025/06/SLP-logo-25_smaller.jpg
END:VEVENT
END:VCALENDAR