BEGIN:VCALENDAR
VERSION:2.0
PRODID:-//Socialist Labour Party - ECPv6.15.20//NONSGML v1.0//EN
CALSCALE:GREGORIAN
METHOD:PUBLISH
X-WR-CALNAME:Socialist Labour Party
X-ORIGINAL-URL:https://socialistlabourparty.org.uk
X-WR-CALDESC:Events for Socialist Labour Party
REFRESH-INTERVAL;VALUE=DURATION:PT1H
X-Robots-Tag:noindex
X-PUBLISHED-TTL:PT1H
BEGIN:VTIMEZONE
TZID:Europe/London
BEGIN:DAYLIGHT
TZOFFSETFROM:+0000
TZOFFSETTO:+0100
TZNAME:BST
DTSTART:20240331T010000
END:DAYLIGHT
BEGIN:STANDARD
TZOFFSETFROM:+0100
TZOFFSETTO:+0000
TZNAME:GMT
DTSTART:20241027T010000
END:STANDARD
BEGIN:DAYLIGHT
TZOFFSETFROM:+0000
TZOFFSETTO:+0100
TZNAME:BST
DTSTART:20250330T010000
END:DAYLIGHT
BEGIN:STANDARD
TZOFFSETFROM:+0100
TZOFFSETTO:+0000
TZNAME:GMT
DTSTART:20251026T010000
END:STANDARD
BEGIN:DAYLIGHT
TZOFFSETFROM:+0000
TZOFFSETTO:+0100
TZNAME:BST
DTSTART:20260329T010000
END:DAYLIGHT
BEGIN:STANDARD
TZOFFSETFROM:+0100
TZOFFSETTO:+0000
TZNAME:GMT
DTSTART:20261025T010000
END:STANDARD
BEGIN:DAYLIGHT
TZOFFSETFROM:+0000
TZOFFSETTO:+0100
TZNAME:BST
DTSTART:20270328T010000
END:DAYLIGHT
BEGIN:STANDARD
TZOFFSETFROM:+0100
TZOFFSETTO:+0000
TZNAME:GMT
DTSTART:20271031T010000
END:STANDARD
END:VTIMEZONE
BEGIN:VEVENT
DTSTART;TZID=Europe/London:20260717T000000
DTEND;TZID=Europe/London:20260719T235959
DTSTAMP:20260423T031000
CREATED:20260204T172007Z
LAST-MODIFIED:20260204T172007Z
UID:2142348393-1784246400-1784505599@socialistlabourparty.org.uk
SUMMARY:Tolpuddle Martyrs Festival July 2026
DESCRIPTION:The SLP intend to support the Tolpuddle Festival in 2026 \nVenue: The village of Tolpuddle\, Dorset\nDate: 17-19th of July\, 2026\nContact 07799-580364 or generalsecretary@socialistlabourparty.org.uk for details of time and meeting point.
URL:https://socialistlabourparty.org.uk/event/tolpuddle-martyrs-festival-july-2026/
LOCATION:Tolpuddle Martyrs Museum\, Dorchester Road\, Tolpuddle\, Dorset\, DT2 7EH\, United Kingdom
ATTACH;FMTTYPE=image/jpeg:https://socialistlabourparty.org.uk/wp-content/uploads/2025/06/SLP-logo-25_smaller.jpg
END:VEVENT
BEGIN:VEVENT
DTSTART;TZID=Europe/London:20260711T000000
DTEND;TZID=Europe/London:20260711T235959
DTSTAMP:20260423T031000
CREATED:20260204T162014Z
LAST-MODIFIED:20260204T162014Z
UID:2142348387-1783728000-1783814399@socialistlabourparty.org.uk
SUMMARY:Durham Miners Gala
DESCRIPTION:SLP members and supporters will attend the 140th Durham Miners Gala this year (2026) \nCome along and show your support. \nUsually at 8.30am banner groups and bands gather in Durham City Centre Market Place. \nDate: Saturday 11th of July \nContact 07799-580364 or generalsecretary@socialistlabourparty.org.uk for details of time and meeting point.
URL:https://socialistlabourparty.org.uk/event/durham-miners-gala/
LOCATION:Durham Miners Gala\, Market Place\, Durham\, County Durham\, DH1 3NJ\, United Kingdom
ATTACH;FMTTYPE=image/jpeg:https://socialistlabourparty.org.uk/wp-content/uploads/2025/06/SLP-logo-25_smaller.jpg
END:VEVENT
BEGIN:VEVENT
DTSTART;TZID=Europe/London:20260704T110000
DTEND;TZID=Europe/London:20260704T170000
DTSTAMP:20260423T031000
CREATED:20260204T160508Z
LAST-MODIFIED:20260204T160607Z
UID:2142348383-1783162800-1783184400@socialistlabourparty.org.uk
SUMMARY:Chainmakers Festival in Cradley Heath 2026
DESCRIPTION:In 1910 the Women Chainmakers of Cradley Heath fought a successful 10-week dispute to establish the right to a minimum wage for their labour. \nEach year the Women Chainmakers Festival recognises and celebrates the role of women within the trade union movement and aims to reclaim the often forgotten contribution of women to Britain’s industrial heritage \nSLP members and supporters will be present at this event. \nCome along and show your support. \nVenue: Mary McArthur Gardens\, Sydney Road\, Cradley Heath\, B64 5AP\nDate and Time: Saturday 4th of July\, 2026 from 11:00 to 17:30 (provisional)\nContact 07799-580364 or generalsecretary@socialistlabourparty.org.uk for details.
URL:https://socialistlabourparty.org.uk/event/chainmakers-festival-in-cradley-heath-2026/
LOCATION:Mary McArthur Gardens\, Sydney Road\, Cradley Heath\, Staffordshire\, B64 5BA\, United Kingdom
ATTACH;FMTTYPE=image/jpeg:https://socialistlabourparty.org.uk/wp-content/uploads/2025/06/SLP-logo-25_smaller.jpg
END:VEVENT
BEGIN:VEVENT
DTSTART;TZID=Europe/London:20260620T100000
DTEND;TZID=Europe/London:20260620T160000
DTSTAMP:20260423T031000
CREATED:20260326T150844Z
LAST-MODIFIED:20260326T150844Z
UID:2142348469-1781949600-1781971200@socialistlabourparty.org.uk
SUMMARY:Derby Silk Mill Festival
DESCRIPTION:The Socialist Labour Party will have a presence at the Derby Silk Mill Festival in 2026. \nThis festival is a commemoration of the historic struggle of The Derby Silk Mill workers with procession led by local marching band\, followed by speakers. \nCome along and help crew the SLP stall and hold the banner in the procession.
URL:https://socialistlabourparty.org.uk/event/derby-silk-mill-festival/
LOCATION:Derby Cathedral Green\, Cathedral Green\, Full Street\, Derby\, Derbyshire\, DE1 3AF\, United Kingdom
ATTACH;FMTTYPE=image/jpeg:https://socialistlabourparty.org.uk/wp-content/uploads/2026/03/Silk_Mill_Festival.jpg
END:VEVENT
BEGIN:VEVENT
DTSTART;TZID=Europe/London:20260509T103000
DTEND;TZID=Europe/London:20260509T170000
DTSTAMP:20260423T031000
CREATED:20260204T152638Z
LAST-MODIFIED:20260204T155033Z
UID:2142348377-1778322600-1778346000@socialistlabourparty.org.uk
SUMMARY:Levellers Day Burford\, Oxon
DESCRIPTION:SLP members and supporters will be attending the Levellers Day in Burford.\nThe Socialist Labour Party is part of the stream of radical political dissent that reaches back to the Levellers.\nCome along and support us.\nVenue: Warwick Hall\, Church Lane\, Burford OX18 4RY\nDate and Time: Saturday the 10th of May. Meet outside Warwick Hall at 10:30.\nContact 07799-580364 or generalsecretary@socialistlabourparty.org.uk for details.
URL:https://socialistlabourparty.org.uk/event/levellers-day-burford-oxon/
LOCATION:Warwick Hall\, Burford\, Church Lane\, Burford\, Oxfordshire\, OX18 4RY\, United Kingdom
ATTACH;FMTTYPE=image/jpeg:https://socialistlabourparty.org.uk/wp-content/uploads/2025/06/SLP-logo-25_smaller.jpg
END:VEVENT
BEGIN:VEVENT
DTSTART;TZID=Europe/London:20260504T103000
DTEND;TZID=Europe/London:20260504T153000
DTSTAMP:20260423T031000
CREATED:20260204T142858Z
LAST-MODIFIED:20260204T142858Z
UID:2142348365-1777890600-1777908600@socialistlabourparty.org.uk
SUMMARY:Chesterfield Gala May 2026
DESCRIPTION:Socialist Labour Party members will be present at the Chesterfield May Day Gala\n4th of May\, 2026\nContact 07799-580364 or generalsecretary@socialistlabourparty.org.uk for detail and meeting point.
URL:https://socialistlabourparty.org.uk/event/chesterfield-gala-may-2026/
LOCATION:Rose Hill\, Chesterfield\, Rose Hill\, Chesterfield\, Derbyshire\, S40\, 1
ATTACH;FMTTYPE=image/jpeg:https://socialistlabourparty.org.uk/wp-content/uploads/2025/06/SLP-logo-25_smaller.jpg
END:VEVENT
BEGIN:VEVENT
DTSTART;TZID=Europe/London:20260428T120000
DTEND;TZID=Europe/London:20260428T124500
DTSTAMP:20260423T031000
CREATED:20260204T141715Z
LAST-MODIFIED:20260204T141724Z
UID:2142348360-1777377600-1777380300@socialistlabourparty.org.uk
SUMMARY:Leicester International Workers Memorial Day
DESCRIPTION:Leicester Trades Union Council Organise a memorial day for all workers killed at work in the East Midlands. \nIt begins by the reading out the list of those killed at work in the East Midlands followed by a minute’s silence. \nThere will be a number of speakers arranged beginning with the Lord Mayor of Leicester and followed by local trade unionists. \nThere is also a display floral tributes contributed by local trades unionists branches and other organisations and individuals. Then finished with some music provided by Red Leicester Choir. \nThe event should take approximately 45 minutes. \nEvery year more people are killed at work than in wars. Most don’t die of mystery ailments\, or in tragic “accidents”. They die because an employer decided their safety just wasn’t that important a priority. International Workers Memorial Day\, on 28 April\, commemorates those workers. \nMembers of the Socialist Labour Party will be present. Contact 07790-031418 for details or generalsecretary@socialistlabourparty.org.uk
URL:https://socialistlabourparty.org.uk/event/leicester-international-workers-memorial-day/
LOCATION:Town Hall Square\, Leicester\, 7-9 Every Street\, Leicester\, Leicestershire\, LE1 6AG\, United Kingdom
ATTACH;FMTTYPE=image/jpeg:https://socialistlabourparty.org.uk/wp-content/uploads/2025/06/SLP-logo-25_smaller.jpg
END:VEVENT
BEGIN:VEVENT
DTSTART;TZID=Europe/London:20260425T113000
DTEND;TZID=Europe/London:20260425T130000
DTSTAMP:20260423T031000
CREATED:20260204T150949Z
LAST-MODIFIED:20260402T110739Z
UID:2142348369-1777116600-1777122000@socialistlabourparty.org.uk
SUMMARY:Commemorative Wreath Laying\, Somercotes\, Derbyshire
DESCRIPTION:Our Comrade\, Paul Liversuch will be giving a speech to commemorate the legacy of the miners in Derbyshire.\nSLP members and supporters are welcome to come along and support\nVenue: Somercotes Village Hall\, Nottingham Rd\, Somercotes\, Alfreton DE55 4LY\nDate and Time: Friday the 24th of April at 12:00pm \nContact 07799-580364 or generalsecretary@socialistlabourparty.org.uk for more details
URL:https://socialistlabourparty.org.uk/event/commemorative-wreath-laying-somercotes-derbyshire/
LOCATION:Somercotes Village Hall\, 239 Nottingham Road\, Somercotes\, Derbyshire\, DE55 4LY\, United Kingdom
ATTACH;FMTTYPE=image/jpeg:https://socialistlabourparty.org.uk/wp-content/uploads/2025/06/SLP-logo-25_smaller.jpg
END:VEVENT
BEGIN:VEVENT
DTSTART;TZID=Europe/London:20260314T104500
DTEND;TZID=Europe/London:20260314T160000
DTSTAMP:20260423T031000
CREATED:20260218T180746Z
LAST-MODIFIED:20260218T180945Z
UID:2142348410-1773485100-1773504000@socialistlabourparty.org.uk
SUMMARY:David Jones / Joe Green memorial and lecture
DESCRIPTION:Though this is not a Socialist Labour Party Event\, there will be SLP members attending the meeting\, and this is chance to meet with other SLP members. \nThis event is in commemoration of 2 striking miners who lost their lives on the picket line\, David Jones and Joe Green\, in 1984. \nSpeakers:\nJoanne Thomas\, USDAW & Chair TULO\nSteve Wright\, FBU
URL:https://socialistlabourparty.org.uk/event/david-jones-joe-green-memorial-and-lecture/
LOCATION:Miner’s Offices\, 2 Huddersfield Road\, Barnsley\, South Yorkshire\, S70 2LS
ATTACH;FMTTYPE=image/jpeg:https://socialistlabourparty.org.uk/wp-content/uploads/2025/06/SLP-logo-25_smaller.jpg
END:VEVENT
BEGIN:VEVENT
DTSTART;TZID=Europe/London:20260211T130000
DTEND;TZID=Europe/London:20260211T150000
DTSTAMP:20260423T031000
CREATED:20260203T183931Z
LAST-MODIFIED:20260203T183931Z
UID:2142348352-1770814800-1770822000@socialistlabourparty.org.uk
SUMMARY:Rally to protect Derbyshire Care Homes
DESCRIPTION:Derbyshire County Council has announced the closure of eight care homes for older people after their sale to the private sector fell through. Fifty elderly residents are to lose their homes and over two hundred staff will lose their jobs.\n\nWe do not believe the closure of these excellent buildings\, the loss of their dedicated staff and the eviction of these elderly residents is in anyone’s best interests.\nAs part of our campaign to save these homes we will be holding a rally at County Hall\, Matlock before the next full meeting of the council. We will be calling on the leadership of Derbyshire County Council to rethink this decision.\n\nThere will be banners\, placards and hot drinks.\n\nPlease join the rally if you can and make your voice heard. \nOur comrade\, Paul Liversuch will be there\, so come along and support him and the rally. \nWHEN: 1PM Wednesday 11 FebruaryWHERE: The terrace\, County Hall\, Matlock\, DE4 3AG
URL:https://socialistlabourparty.org.uk/event/rally-to-protect-derbyshire-care-homes/
LOCATION:County Hall Matlock\, Smedley Street\, Matlock\, Derbyshire\, DE4 3AG\, United Kingdom
ATTACH;FMTTYPE=image/jpeg:https://socialistlabourparty.org.uk/wp-content/uploads/2025/06/SLP-logo-25_smaller.jpg
END:VEVENT
BEGIN:VEVENT
DTSTART;TZID=Europe/London:20251213T123000
DTEND;TZID=Europe/London:20251213T133000
DTSTAMP:20260423T031000
CREATED:20251115T140254Z
LAST-MODIFIED:20251115T142104Z
UID:2142348279-1765629000-1765632600@socialistlabourparty.org.uk
SUMMARY:Wreath-laying ceremony in memory of the miners of South Derbyshire
DESCRIPTION:There will a ceremonial laying of a wreath at the commemorative statue in Swadlincote at 12:30 on Saturday the 13th of December.\nThere will be speeches and wreath-laying in memory of the work and sacrifices of the miners in South Derbyshire. \nLocation: Alleyne Close\, Hepworth Retail Park\, Swadlincote\, Derbyshire. \nGoogle Maps Location: https://maps.app.goo.gl/5wfptVL3LPee8dnC9 \nWhat3Words: ///tags.dangerously.added \n 
URL:https://socialistlabourparty.org.uk/event/wreath-laying-ceremony-in-memory-of-the-miners-of-south-derbyshire/
LOCATION:Swadlincote Miners Statue\, Alleyne Close\, Hepworth Retail Park\, Swadlincote\, Derbyshire\, United Kingdom
ATTACH;FMTTYPE=image/jpeg:https://socialistlabourparty.org.uk/wp-content/uploads/2025/06/SLP-logo-25_smaller.jpg
END:VEVENT
BEGIN:VEVENT
DTSTART;TZID=Europe/London:20251122T110000
DTEND;TZID=Europe/London:20251122T130000
DTSTAMP:20260423T031000
CREATED:20251116T192019Z
LAST-MODIFIED:20251116T192324Z
UID:2142348285-1763809200-1763816400@socialistlabourparty.org.uk
SUMMARY:Meet for Leafleting
DESCRIPTION:SLP comrades in the East Midlands are meeting for a leafleting session prior to the budget @ 11:00am on Saturday 22rd of November in Chesterfield.\nMeeting point is in front of The Hub on Low Pavement in Chesterfield.\nAll Comrades welcome!! \nhttps://maps.app.goo.gl/vtfcAjog7dyg4H6H8\nWhat3Words location: ///wounds.likely.silks
URL:https://socialistlabourparty.org.uk/event/meet-for-leafleting/
LOCATION:The Hub\, 61 Low Pavement\, Chesterfield\, Derbyshire\, S40 1PB\, United Kingdom
ATTACH;FMTTYPE=image/jpeg:https://socialistlabourparty.org.uk/wp-content/uploads/2025/06/SLP-logo-25_smaller.jpg
END:VEVENT
BEGIN:VEVENT
DTSTART;TZID=Europe/London:20251005T130000
DTEND;TZID=Europe/London:20251005T160000
DTSTAMP:20260423T031000
CREATED:20250702T200809Z
LAST-MODIFIED:20250704T100728Z
UID:2142348121-1759669200-1759680000@socialistlabourparty.org.uk
SUMMARY:Manningham Mill Strike March and Rally
DESCRIPTION:Manningham Mill Strike Commemorative March \nGather at 1pm Lister Mill\, Bradford and march to Lister Park Rally \nOrganised by the Bradford and Shipley Trades Union Council
URL:https://socialistlabourparty.org.uk/event/manningham-mill-strike/
LOCATION:Lister Mill\, Lilycroft Rd\, Bradford\, Yorkshire\, BD9 5BD\, United Kingdom
ATTACH;FMTTYPE=image/jpeg:https://socialistlabourparty.org.uk/wp-content/uploads/2025/06/SLP-logo-25_smaller.jpg
ORGANIZER;CN="Bradford & Shipley Trades Council":MAILTO:bandstuc@gmail.com
END:VEVENT
BEGIN:VEVENT
DTSTART;TZID=Europe/London:20251004T000000
DTEND;TZID=Europe/London:20251004T235959
DTSTAMP:20260423T031000
CREATED:20250907T112206Z
LAST-MODIFIED:20250928T094748Z
UID:2142348182-1759536000-1759622399@socialistlabourparty.org.uk
SUMMARY:SLP Social Event: Walk in Bradgate Park\, Leicestershire
DESCRIPTION:SLP comrades are meeting for a walk in Bradgate Park. Everyone is invited\, (whether members or not). There’ll walking\, chatting and probably coffee and cake at some point.\nA chance to get to know SLP comrades \nMeet at Hunts Hill Car Park (pay and display) at 10:30\, Saturday the 4th of October. \nBe prepared for rain\, and bring suitable waterproofs and boots/walking shoes. \n \nGoogle Maps: https://maps.app.goo.gl/tyys23RXuTd6Qis89 \nThree Word Location: ///smile.logo.cone \n 
URL:https://socialistlabourparty.org.uk/event/slp-social-event-walk-in-bradgate-park-leicestershire/
LOCATION:Derbyshire
ATTACH;FMTTYPE=image/jpeg:https://socialistlabourparty.org.uk/wp-content/uploads/2025/09/Old_John_Tower.jpg
END:VEVENT
BEGIN:VEVENT
DTSTART;TZID=Europe/London:20250801T000000
DTEND;TZID=Europe/London:20250802T235959
DTSTAMP:20260423T031000
CREATED:20250801T142937Z
LAST-MODIFIED:20250801T142937Z
UID:2142348162-1754006400-1754179199@socialistlabourparty.org.uk
SUMMARY:Pot and Pan Protest for Gaza
DESCRIPTION:Israel continues to use starvation – deliberately\, systematically\, and with devastating consequences – to collectively punish the civilian population in Gaza. This is not a humanitarian crisis caused by misfortune. It is a mass atrocity being carried out in plain sight. \nIt is up to us to do everything we can to stop this. Today\, we will again mobilise across Britain with pots and pans\, demanding that Israel and its enablers “stop starving Gaza!” Will you join us? \nFind your local event; Here \nAccording to the director of the World Food Programme in Gaza\, “Every hour matters now. People are dying of hunger.” Médecins Sans Frontières reports treating “emaciated children with sunken eyes\, who weigh half what they should.” Human Rights Watch says plainly\, “The Israeli government is deliberately blocking the delivery of water\, food\, and fuel – acts of collective punishment amounting to war crimes.” \nThe British government is a partner in genocide\, so long as it continues to conduct business as usual with Israel. While Keir Starmer and David Lammy issue vague statements and stage-managed concern\, the UK keeps arming and defending Israel. Their words mean nothing while people starve and children die. \nToday\, we take action where we are. Across the country\, our supporters are holding bold demonstrations – making noise\, showing our strength\, and confronting those in power with the urgency they refuse to show. \nWe remember those murdered while queuing for food. We stand with the people of Gaza facing man-made famine. And we need you with us. \nSolidarity\,\nOrganised by the Palestine Solidarity Campaign
URL:https://socialistlabourparty.org.uk/event/pot-and-pan-protest-for-gaza/
LOCATION:Derbyshire
ATTACH;FMTTYPE=image/jpeg:https://socialistlabourparty.org.uk/wp-content/uploads/2025/06/SLP-logo-25_smaller.jpg
END:VEVENT
END:VCALENDAR