BEGIN:VCALENDAR
VERSION:2.0
PRODID:-//Socialist Labour Party - ECPv6.15.20//NONSGML v1.0//EN
CALSCALE:GREGORIAN
METHOD:PUBLISH
X-WR-CALNAME:Socialist Labour Party
X-ORIGINAL-URL:https://socialistlabourparty.org.uk
X-WR-CALDESC:Events for Socialist Labour Party
REFRESH-INTERVAL;VALUE=DURATION:PT1H
X-Robots-Tag:noindex
X-PUBLISHED-TTL:PT1H
BEGIN:VTIMEZONE
TZID:Europe/London
BEGIN:DAYLIGHT
TZOFFSETFROM:+0000
TZOFFSETTO:+0100
TZNAME:BST
DTSTART:20250330T010000
END:DAYLIGHT
BEGIN:STANDARD
TZOFFSETFROM:+0100
TZOFFSETTO:+0000
TZNAME:GMT
DTSTART:20251026T010000
END:STANDARD
BEGIN:DAYLIGHT
TZOFFSETFROM:+0000
TZOFFSETTO:+0100
TZNAME:BST
DTSTART:20260329T010000
END:DAYLIGHT
BEGIN:STANDARD
TZOFFSETFROM:+0100
TZOFFSETTO:+0000
TZNAME:GMT
DTSTART:20261025T010000
END:STANDARD
BEGIN:DAYLIGHT
TZOFFSETFROM:+0000
TZOFFSETTO:+0100
TZNAME:BST
DTSTART:20270328T010000
END:DAYLIGHT
BEGIN:STANDARD
TZOFFSETFROM:+0100
TZOFFSETTO:+0000
TZNAME:GMT
DTSTART:20271031T010000
END:STANDARD
END:VTIMEZONE
BEGIN:VEVENT
DTSTART;TZID=Europe/London:20260314T104500
DTEND;TZID=Europe/London:20260314T160000
DTSTAMP:20260420T085226
CREATED:20260218T180746Z
LAST-MODIFIED:20260218T180945Z
UID:2142348410-1773485100-1773504000@socialistlabourparty.org.uk
SUMMARY:David Jones / Joe Green memorial and lecture
DESCRIPTION:Though this is not a Socialist Labour Party Event\, there will be SLP members attending the meeting\, and this is chance to meet with other SLP members. \nThis event is in commemoration of 2 striking miners who lost their lives on the picket line\, David Jones and Joe Green\, in 1984. \nSpeakers:\nJoanne Thomas\, USDAW & Chair TULO\nSteve Wright\, FBU
URL:https://socialistlabourparty.org.uk/event/david-jones-joe-green-memorial-and-lecture/
LOCATION:Miner’s Offices\, 2 Huddersfield Road\, Barnsley\, South Yorkshire\, S70 2LS
ATTACH;FMTTYPE=image/jpeg:https://socialistlabourparty.org.uk/wp-content/uploads/2025/06/SLP-logo-25_smaller.jpg
END:VEVENT
END:VCALENDAR